BEGIN:VCALENDAR
VERSION:2.0
PRODID:-//Don&#039;t Make It Weird - ECPv6.15.20//NONSGML v1.0//EN
CALSCALE:GREGORIAN
METHOD:PUBLISH
X-WR-CALNAME:Don&#039;t Make It Weird
X-ORIGINAL-URL:https://dmiw.org
X-WR-CALDESC:Events for Don&#039;t Make It Weird
REFRESH-INTERVAL;VALUE=DURATION:PT1H
X-Robots-Tag:noindex
X-PUBLISHED-TTL:PT1H
BEGIN:VTIMEZONE
TZID:UTC
BEGIN:STANDARD
TZOFFSETFROM:+0000
TZOFFSETTO:+0000
TZNAME:UTC
DTSTART:20240101T000000
END:STANDARD
END:VTIMEZONE
BEGIN:VEVENT
DTSTART;TZID=UTC:20250426T080000
DTEND;TZID=UTC:20250426T170000
DTSTAMP:20260424T135313
CREATED:20240807T164357Z
LAST-MODIFIED:20240807T164357Z
UID:10000038-1745654400-1745686800@dmiw.org
SUMMARY:Youth Mental Health First Aid
DESCRIPTION:Guide\, Inc – Youth Mental Health First Aid \nSpend the day learning how to detect the warning signs of suicide\, alcohol & substance abuse\, and how to get help. \nThis class is ideal for coaches\, teachers\, parents\, grandparents and anyone who has children in their lives. \n*$150 stipend for Gwinnett/Buford school system employees\, by GUIDE\, Inc. \nLunch & Learn Option: NARCAN Training. Each participant will leave class with a Narcan kit. \nSnacks & Lunch provided. \nPlease use link below to register: \nhttps://guideinc.swoogo.com/ymhfa_dmiw \n*If link isn’t redirecting\, please copy and paste into your browser to register.
URL:https://dmiw.org/event/youth-mental-health-first-aid-3/
LOCATION:Community Center\, 554 W. Main Street\, Suite 1100\, Buford\, GA\, 30518\, United States
END:VEVENT
END:VCALENDAR