BEGIN:VCALENDAR
VERSION:2.0
PRODID:-//Don&#039;t Make It Weird - ECPv6.15.20//NONSGML v1.0//EN
CALSCALE:GREGORIAN
METHOD:PUBLISH
X-WR-CALNAME:Don&#039;t Make It Weird
X-ORIGINAL-URL:https://dmiw.org
X-WR-CALDESC:Events for Don&#039;t Make It Weird
REFRESH-INTERVAL;VALUE=DURATION:PT1H
X-Robots-Tag:noindex
X-PUBLISHED-TTL:PT1H
BEGIN:VTIMEZONE
TZID:UTC
BEGIN:STANDARD
TZOFFSETFROM:+0000
TZOFFSETTO:+0000
TZNAME:UTC
DTSTART:20230101T000000
END:STANDARD
END:VTIMEZONE
BEGIN:VEVENT
DTSTART;TZID=UTC:20240903T160000
DTEND;TZID=UTC:20240903T173000
DTSTAMP:20260421T152833
CREATED:20240802T115248Z
LAST-MODIFIED:20240807T160650Z
UID:10000015-1725379200-1725384600@dmiw.org
SUMMARY:Life Skills Club for Teens
DESCRIPTION:Monthly Club led by Certified Teacher\, Amy Ingram. \nTopic: Positive Communication with Peers \nWe will talk about how to talk to friends\, adults\, teachers\, parents\, etc. What happens when you disagree? How to handle people who say mean things. \nAre you speaking positively to others? \n 
URL:https://dmiw.org/event/life-skills-club-for-teens/
LOCATION:Community Center\, 554 W. Main Street\, Suite 1100\, Buford\, GA\, 30518\, United States
END:VEVENT
BEGIN:VEVENT
DTSTART;TZID=UTC:20240829T180000
DTEND;TZID=UTC:20240829T193000
DTSTAMP:20260421T152833
CREATED:20240802T114835Z
LAST-MODIFIED:20240829T194450Z
UID:10000014-1724954400-1724959800@dmiw.org
SUMMARY:CANCELED: Speaker: Kristilee Cavoretto\, SVU Detective
DESCRIPTION:This event had to be rescheduled due to an unforeseen conflict for Det. Cavoretto. She will be rescheduled in November. Apologies for the late notices (8/28). KSM. \nCome listen to SVU Detective and co-founder of Millstone Collective educate on Child Abuse Prevention\, Honest Conversations\, and the Reality of Stranger Danger.
URL:https://dmiw.org/event/speaker-kristilee-cavoretto-svu-detective/
LOCATION:Community Center\, 554 W. Main Street\, Suite 1100\, Buford\, GA\, 30518\, United States
END:VEVENT
BEGIN:VEVENT
DTSTART;TZID=UTC:20240815T180000
DTEND;TZID=UTC:20240815T193000
DTSTAMP:20260421T152833
CREATED:20240724T195122Z
LAST-MODIFIED:20240802T130602Z
UID:10000003-1723744800-1723750200@dmiw.org
SUMMARY:Love Box Learning: How To Raise A Loving Family
DESCRIPTION:Explore what love is and ways to love others\, even people who are hard to understand.\nLearn how to express love with the Love Box. Christine Martinello\, Founder\, Love Box Foundation
URL:https://dmiw.org/event/love-box-class-how-to-raise-a-loving-family/
LOCATION:Community Center\, 554 W. Main Street\, Suite 1100\, Buford\, GA\, 30518\, United States
END:VEVENT
BEGIN:VEVENT
DTSTART;TZID=UTC:20240814T180000
DTEND;TZID=UTC:20240814T193000
DTSTAMP:20260421T152833
CREATED:20240724T194954Z
LAST-MODIFIED:20240724T194954Z
UID:10000002-1723658400-1723663800@dmiw.org
SUMMARY:Your Mind is Your Business; Keep it Healthy
DESCRIPTION:DMIW Meeting / Speaker: Emily Emmons – Miss Irish Capital 2024 –\nCommunity Service initiative
URL:https://dmiw.org/event/your-mind-is-your-business-keep-it-healthy/
LOCATION:Community Center\, 554 W. Main Street\, Suite 1100\, Buford\, GA\, 30518\, United States
END:VEVENT
BEGIN:VEVENT
DTSTART;TZID=UTC:20240803T140000
DTEND;TZID=UTC:20240803T160000
DTSTAMP:20260421T152833
CREATED:20240802T114615Z
LAST-MODIFIED:20240802T132837Z
UID:10000013-1722693600-1722700800@dmiw.org
SUMMARY:DMIW MHRC Grand Opening Open House
DESCRIPTION:Come visit the space created by the community\, for the community and learn about upcoming programs and events. \nWe can’t wait to share it with you!
URL:https://dmiw.org/event/dmiw-mhrc-grand-opening-open-house/
LOCATION:Community Center\, 554 W. Main Street\, Suite 1100\, Buford\, GA\, 30518\, United States
END:VEVENT
END:VCALENDAR