BEGIN:VCALENDAR
VERSION:2.0
PRODID:-//Don&#039;t Make It Weird - ECPv6.15.20//NONSGML v1.0//EN
CALSCALE:GREGORIAN
METHOD:PUBLISH
X-WR-CALNAME:Don&#039;t Make It Weird
X-ORIGINAL-URL:https://dmiw.org
X-WR-CALDESC:Events for Don&#039;t Make It Weird
REFRESH-INTERVAL;VALUE=DURATION:PT1H
X-Robots-Tag:noindex
X-PUBLISHED-TTL:PT1H
BEGIN:VTIMEZONE
TZID:UTC
BEGIN:STANDARD
TZOFFSETFROM:+0000
TZOFFSETTO:+0000
TZNAME:UTC
DTSTART:20230101T000000
END:STANDARD
END:VTIMEZONE
BEGIN:VEVENT
DTSTART;TZID=UTC:20240803T140000
DTEND;TZID=UTC:20240803T160000
DTSTAMP:20260424T230225
CREATED:20240802T114615Z
LAST-MODIFIED:20240802T132837Z
UID:10000013-1722693600-1722700800@dmiw.org
SUMMARY:DMIW MHRC Grand Opening Open House
DESCRIPTION:Come visit the space created by the community\, for the community and learn about upcoming programs and events. \nWe can’t wait to share it with you!
URL:https://dmiw.org/event/dmiw-mhrc-grand-opening-open-house/
LOCATION:Community Center\, 554 W. Main Street\, Suite 1100\, Buford\, GA\, 30518\, United States
END:VEVENT
END:VCALENDAR